BEGIN:VCALENDAR
VERSION:2.0
PRODID:-//Fox Cities Magazine - ECPv6.15.16//NONSGML v1.0//EN
CALSCALE:GREGORIAN
METHOD:PUBLISH
X-ORIGINAL-URL:https://foxcitiesmagazine.com
X-WR-CALDESC:Events for Fox Cities Magazine
REFRESH-INTERVAL;VALUE=DURATION:PT1H
X-Robots-Tag:noindex
X-PUBLISHED-TTL:PT1H
BEGIN:VTIMEZONE
TZID:America/Chicago
BEGIN:DAYLIGHT
TZOFFSETFROM:-0600
TZOFFSETTO:-0500
TZNAME:CDT
DTSTART:20250309T080000
END:DAYLIGHT
BEGIN:STANDARD
TZOFFSETFROM:-0500
TZOFFSETTO:-0600
TZNAME:CST
DTSTART:20251102T070000
END:STANDARD
BEGIN:DAYLIGHT
TZOFFSETFROM:-0600
TZOFFSETTO:-0500
TZNAME:CDT
DTSTART:20260308T080000
END:DAYLIGHT
BEGIN:STANDARD
TZOFFSETFROM:-0500
TZOFFSETTO:-0600
TZNAME:CST
DTSTART:20261101T070000
END:STANDARD
BEGIN:DAYLIGHT
TZOFFSETFROM:-0600
TZOFFSETTO:-0500
TZNAME:CDT
DTSTART:20270314T080000
END:DAYLIGHT
BEGIN:STANDARD
TZOFFSETFROM:-0500
TZOFFSETTO:-0600
TZNAME:CST
DTSTART:20271107T070000
END:STANDARD
END:VTIMEZONE
BEGIN:VEVENT
DTSTART;TZID=America/Chicago:20260426T140000
DTEND;TZID=America/Chicago:20260426T140000
DTSTAMP:20260423T195551
CREATED:20260401T190848Z
LAST-MODIFIED:20260401T190848Z
UID:10001893-1777212000-1777212000@foxcitiesmagazine.com
SUMMARY:Lawrence University Jazz Quartet: Spring Session
DESCRIPTION:Lawrence University Jazz Quartet: Spring Sessions \nThe Lawrence University Student Jazz Quartet is back at the Neenah Public Library for a series of spring concerts taking place Sundays on April 12th\, April 19th\, April 26th and May 3rd. These one-hour long concerts begin at 2:00 pm and feature classic jazz selections from Miles Davis\, Herbie Hancock\, Thelonious Monk\, and more. \nThis year the following students were selected to play at NPL: \nCharlie White\, trombone\nRowan McJimsey\, piano\nCooper Luedtke\, bass\nTyler Donnelly\, drums \nIf accommodations are needed to attend\, please contact the library at least 24 hours in advance of the program. For more information\, please contact the reference desk by phone: 920-886-6315\, e-mail: Library@neenahlibrary.org or visit our website\, www.neenahlibrary.org.\nThe Friends of the Neenah Public Library and the Neenah Public Library Trust Fund present the Concert Series. Donations are always accepted and appreciated.
URL:https://foxcitiesmagazine.com/calendar/lawrence-university-jazz-quartet-spring-session/2026-04-26/
LOCATION:Neenah Library\, 240 E Wisconsin Ave\, Neenah\, 54956
CATEGORIES:Community Events,Featured Events
END:VEVENT
BEGIN:VEVENT
DTSTART;TZID=America/Chicago:20260427T180000
DTEND;TZID=America/Chicago:20260427T190000
DTSTAMP:20260423T195551
CREATED:20260324T144503Z
LAST-MODIFIED:20260324T144503Z
UID:10001885-1777312800-1777316400@foxcitiesmagazine.com
SUMMARY:Ryan Surprise Book Launch Party
DESCRIPTION:Come celebrate with Ryan Surprise as he launches his newest book\, High Roller Airways. The story of a pilot who runs a private jet for the suckers\, card sharks\, and degenerate gamblers who want to live it up on the Las Vegas Strip.
URL:https://foxcitiesmagazine.com/calendar/ryan-surprise-book-launch-party/
LOCATION:The Book Store\, 801 W College Ave\, Appleton\, WI\, 54914\, United States
CATEGORIES:Community Events,Featured Events
ATTACH;FMTTYPE=image/png:https://foxcitiesmagazine.com/wp-content/uploads/2026/03/4.27.2026-Ryan-Surprise-Book-Launch-Party-Ad.png
END:VEVENT
BEGIN:VEVENT
DTSTART;TZID=America/Chicago:20260427T180000
DTEND;TZID=America/Chicago:20260427T200000
DTSTAMP:20260423T195551
CREATED:20251007T144741Z
LAST-MODIFIED:20251007T144741Z
UID:10000854-1777312800-1777320000@foxcitiesmagazine.com
SUMMARY:Introductory Bridge Workshop
DESCRIPTION:Introductory Bridge Workshop for Card Enthusiasts \nWayne Peters will lead a six-week workshop tailored for beginners eager to learn Bridge\, particularly aimed at those who already have experience with card games. Participants are asked to commit to all six sessions. Please note that registration is limited to 12 participants. \nThe class will meet from 6:00 – 8:00 p.m. on Monday\, October 27\, November 3\, November 10\, November 24\, December 1\, and December 8. To register\, visit https://neenahlibrary.org/calendar#/events/ \nFor more information\, contact Nicole Hardina-Wilhelm at director@neenahlibrary.org or by phone at 920-886-6300.\n###
URL:https://foxcitiesmagazine.com/calendar/introductory-bridge-workshop/2026-04-27/
LOCATION:Neenah Library\, 240 E Wisconsin Ave\, Neenah\, 54956
CATEGORIES:Community Events,Featured Events
END:VEVENT
BEGIN:VEVENT
DTSTART;TZID=America/Chicago:20260427T183000
DTEND;TZID=America/Chicago:20260427T203000
DTSTAMP:20260423T195551
CREATED:20260310T143037Z
LAST-MODIFIED:20260310T143037Z
UID:10001805-1777314600-1777321800@foxcitiesmagazine.com
SUMMARY:Traditional Irish Session
DESCRIPTION:Every Fourth Monday | McFleshman’s Brewing Company | Appleton\, WI \nJoin us for a traditional Irish music session at McFleshman’s. Musicians and listeners alike are welcome for an evening of lively tunes\, great beer\, and good company. \nThis is an open session for players who enjoy traditional Irish music. Prior playing experience is highly encouraged\, as tunes move along in the traditional session style. Some musicians play by ear\, others read the notes — either approach is welcome.  \nNo rehearsals\, no formal set list — just a group of musicians sharing tunes in the moment. \nNot a musician? Come grab a pint and enjoy the music. Sessions are one of the great traditions of Irish culture\, where the music\, the room\, and the community all come together.
URL:https://foxcitiesmagazine.com/calendar/traditional-irish-session/2026-04-27/
LOCATION:McFleshman’s Brewing Co.\, 115 S. State Street\, Appleton\, WI\, 54911\, United States
CATEGORIES:Community Events,Featured Events
ATTACH;FMTTYPE=image/png:https://foxcitiesmagazine.com/wp-content/uploads/2026/03/Your-paragraph-text-600-x-400-px.png
ORGANIZER;CN="McFleshman%3Bs":MAILTO:emy@mcfleshmans.com
END:VEVENT
BEGIN:VEVENT
DTSTART;TZID=America/Chicago:20260428T190000
DTEND;TZID=America/Chicago:20260428T210000
DTSTAMP:20260423T195551
CREATED:20260318T202631Z
LAST-MODIFIED:20260318T202631Z
UID:10001880-1777402800-1777410000@foxcitiesmagazine.com
SUMMARY:Stone Arch Sessions: Lou Shields
DESCRIPTION:Doors 5pm – Music 7pm – $10 Suggested Donation\n–\nLou Shields embodies the spirit of American music through his solo performances\, skillfully wielding vintage instruments and captivating audiences with foot percussion and harmonica. With a rich background in art\, he weaves his experiences into music\, often creating album art and posters. Lou is not only a seasoned musician but also a Professor of Art\, sharing his passion for creativity with students. His deep connection to the past extends to his off-grid homestead in Southwest Wisconsin\, where he salvages wood and antiques\, blending a rustic lifestyle with his love for music. Lou is a true wanderer\, splitting his time between the Chicago area\, Viroqua\, and Madison\, where he finds a perfect balance of city and country life.
URL:https://foxcitiesmagazine.com/calendar/stone-arch-sessions-lou-shields/
LOCATION:Stone Arch Brewpub\, 1004 S OLDE ONEIDA ST\, Appleton\, WI\, 54915
CATEGORIES:Community Events,Featured Events
ATTACH;FMTTYPE=image/jpeg:https://foxcitiesmagazine.com/wp-content/uploads/2026/03/641214717_1337708748389718_6386667479661633697_n.jpg
ORGANIZER;CN="Stone Arch Brewpub":MAILTO:maurisa@stonearchbrewpub.com
END:VEVENT
BEGIN:VEVENT
DTSTART;TZID=America/Chicago:20260429T170000
DTEND;TZID=America/Chicago:20260429T190000
DTSTAMP:20260423T195551
CREATED:20260401T190848Z
LAST-MODIFIED:20260401T190848Z
UID:10001947-1777482000-1777489200@foxcitiesmagazine.com
SUMMARY:Friendship\, Service\, Fun – Discover Rotary!
DESCRIPTION:Looking for a better way to connect in the Fox Cities?  Discover Rotary!   We are a network of local professionals building friendships\, serving the community\, and having fun along the way.\nThe 5 Rotary Clubs of the Fox Cities are hosting a social on April 29th.  This free event includes light snacks and soft drinks.  Come make some new friends whose motto is\, ‘Service above Self’.
URL:https://foxcitiesmagazine.com/calendar/friendship-service-fun-discover-rotary/
CATEGORIES:Community Events,Featured Events
ORGANIZER;CN="The Rotary Club of Appleton":MAILTO:rotaryappleton@gmail.com
END:VEVENT
BEGIN:VEVENT
DTSTART;TZID=America/Chicago:20260429T180000
DTEND;TZID=America/Chicago:20260429T190000
DTSTAMP:20260423T195551
CREATED:20260205T195442Z
LAST-MODIFIED:20260205T195442Z
UID:10001461-1777485600-1777489200@foxcitiesmagazine.com
SUMMARY:History & Hauntings: Inside Paranormal Investigations
DESCRIPTION:Join investigator Ashley Mittag from Fox Valley Paranormal as she shares real experiences from local haunted sites\, including the Berlin Church\, Sheboygan Asylum\, and the Glenbeulah School. \nThis program will explore the fascinating intersection of history and the unexplained\, highlighting how investigators research haunted locations\, use specialized tools\, and document potential evidence. Ashley will also discuss the importance of preserving historical spaces and the stories they hold\, while answering your questions about what it’s really like to be on an investigation. \nWhether you’re a history buff\, a curious skeptic\, or simply love a good ghost story\, this presentation offers a unique chance to learn more about the paranormal right here in Wisconsin.
URL:https://foxcitiesmagazine.com/calendar/history-hauntings-inside-paranormal-investigations/
LOCATION:Mary Beth Nienhaus Community Room\, Appleton Public Library\, 200 N Appleton St\, Appleton\, WI\, 54915\, United States
CATEGORIES:Community Events,Featured Events
ATTACH;FMTTYPE=image/png:https://foxcitiesmagazine.com/wp-content/uploads/2026/02/History-Hauntings.png
ORGANIZER;CN="Appleton Public Library":MAILTO:refquest@apl.org
END:VEVENT
BEGIN:VEVENT
DTSTART;TZID=America/Chicago:20260429T190000
DTEND;TZID=America/Chicago:20260429T210000
DTSTAMP:20260423T195551
CREATED:20251118T143830Z
LAST-MODIFIED:20260306T161551Z
UID:10001000-1777489200-1777496400@foxcitiesmagazine.com
SUMMARY:Open Mic Night
DESCRIPTION:Every Wednesday | 7–9 PM | McFleshman’s Taproom \nSign-ups start at 6:30 PM \nLooking for a midweek creative outlet? Open Mic at McFleshman’s welcomes musicians\, poets\, comedians\, storytellers\, and first-timers alike.\nBring something new or share something polished — this is a supportive space to perform\, listen\, and connect with the community. \nHosted in rotation by Sarah Lynn Huss and Gilliana Hope. \nAll talent levels are welcome.
URL:https://foxcitiesmagazine.com/calendar/open-mic-night-with-sarah-lynn-huss/2026-04-29/
LOCATION:McFleshman’s Brewing Co.\, 115 S. State Street\, Appleton\, WI\, 54911\, United States
CATEGORIES:Community Events,Featured Events
ATTACH;FMTTYPE=image/png:https://foxcitiesmagazine.com/wp-content/uploads/2025/11/Spring-Open-mic-600x400-1.png
ORGANIZER;CN="McFleshman%3Bs":MAILTO:emy@mcfleshmans.com
END:VEVENT
BEGIN:VEVENT
DTSTART;TZID=America/Chicago:20260430T183000
DTEND;TZID=America/Chicago:20260430T210000
DTSTAMP:20260423T195551
CREATED:20260307T165444Z
LAST-MODIFIED:20260307T165444Z
UID:10001524-1777573800-1777582800@foxcitiesmagazine.com
SUMMARY:Cool Table Trivia at McFleshman's
DESCRIPTION:Get ready to experience the Fox Valley’s newest & best trivia game. Join us at McFleshman’s Brewing Company for a fun and modestly challenging night of questions and prizes! \nOur trivia game isn’t the “high-octane\, in-your-face\, shouting-out-answers” show that other companies have. Nor are we a “graded-by-the-competition” game. \nCoolTable Trivia is a relaxed\, seated-with-your-friends\, type-in-answers trivia game for folks who would like to play trivia\, but also socialize with their friends\, and nothing too crazy because we all have to get up in the morning. \nMore information at www.cooltabletrivia.com
URL:https://foxcitiesmagazine.com/calendar/cool-table-trivia-at-mcfleshmans/2026-04-30/
LOCATION:McFleshman’s Brewing Co.\, 115 S. State Street\, Appleton\, WI\, 54911\, United States
CATEGORIES:Community Events,Featured Events
ATTACH;FMTTYPE=image/jpeg:https://foxcitiesmagazine.com/wp-content/uploads/2026/03/616808256_122164920878771997_7503194301502683192_n.jpg
ORGANIZER;CN="McFleshman%3Bs":MAILTO:emy@mcfleshmans.com
END:VEVENT
END:VCALENDAR