BEGIN:VCALENDAR
VERSION:2.0
PRODID:-//Fox Cities Magazine - ECPv6.15.16//NONSGML v1.0//EN
CALSCALE:GREGORIAN
METHOD:PUBLISH
X-WR-CALNAME:Fox Cities Magazine
X-ORIGINAL-URL:https://foxcitiesmagazine.com
X-WR-CALDESC:Events for Fox Cities Magazine
REFRESH-INTERVAL;VALUE=DURATION:PT1H
X-Robots-Tag:noindex
X-PUBLISHED-TTL:PT1H
BEGIN:VTIMEZONE
TZID:America/Chicago
BEGIN:DAYLIGHT
TZOFFSETFROM:-0600
TZOFFSETTO:-0500
TZNAME:CDT
DTSTART:20250309T080000
END:DAYLIGHT
BEGIN:STANDARD
TZOFFSETFROM:-0500
TZOFFSETTO:-0600
TZNAME:CST
DTSTART:20251102T070000
END:STANDARD
BEGIN:DAYLIGHT
TZOFFSETFROM:-0600
TZOFFSETTO:-0500
TZNAME:CDT
DTSTART:20260308T080000
END:DAYLIGHT
BEGIN:STANDARD
TZOFFSETFROM:-0500
TZOFFSETTO:-0600
TZNAME:CST
DTSTART:20261101T070000
END:STANDARD
BEGIN:DAYLIGHT
TZOFFSETFROM:-0600
TZOFFSETTO:-0500
TZNAME:CDT
DTSTART:20270314T080000
END:DAYLIGHT
BEGIN:STANDARD
TZOFFSETFROM:-0500
TZOFFSETTO:-0600
TZNAME:CST
DTSTART:20271107T070000
END:STANDARD
END:VTIMEZONE
BEGIN:VEVENT
DTSTART;TZID=America/Chicago:20260428T190000
DTEND;TZID=America/Chicago:20260428T210000
DTSTAMP:20260420T090443
CREATED:20260318T202631Z
LAST-MODIFIED:20260318T202631Z
UID:116135-1777402800-1777410000@foxcitiesmagazine.com
SUMMARY:Stone Arch Sessions: Lou Shields
DESCRIPTION:Doors 5pm – Music 7pm – $10 Suggested Donation\n–\nLou Shields embodies the spirit of American music through his solo performances\, skillfully wielding vintage instruments and captivating audiences with foot percussion and harmonica. With a rich background in art\, he weaves his experiences into music\, often creating album art and posters. Lou is not only a seasoned musician but also a Professor of Art\, sharing his passion for creativity with students. His deep connection to the past extends to his off-grid homestead in Southwest Wisconsin\, where he salvages wood and antiques\, blending a rustic lifestyle with his love for music. Lou is a true wanderer\, splitting his time between the Chicago area\, Viroqua\, and Madison\, where he finds a perfect balance of city and country life.
URL:https://foxcitiesmagazine.com/calendar/stone-arch-sessions-lou-shields/
LOCATION:Stone Arch Brewpub\, 1004 S OLDE ONEIDA ST\, Appleton\, WI\, 54915
CATEGORIES:Community Events,Featured Events
ATTACH;FMTTYPE=image/jpeg:https://foxcitiesmagazine.com/wp-content/uploads/2026/03/641214717_1337708748389718_6386667479661633697_n.jpg
ORGANIZER;CN="Stone Arch Brewpub":MAILTO:maurisa@stonearchbrewpub.com
END:VEVENT
END:VCALENDAR