BEGIN:VCALENDAR
VERSION:2.0
PRODID:-//Fox Cities Magazine - ECPv6.15.16//NONSGML v1.0//EN
CALSCALE:GREGORIAN
METHOD:PUBLISH
X-WR-CALNAME:Fox Cities Magazine
X-ORIGINAL-URL:https://foxcitiesmagazine.com
X-WR-CALDESC:Events for Fox Cities Magazine
REFRESH-INTERVAL;VALUE=DURATION:PT1H
X-Robots-Tag:noindex
X-PUBLISHED-TTL:PT1H
BEGIN:VTIMEZONE
TZID:America/Chicago
BEGIN:DAYLIGHT
TZOFFSETFROM:-0600
TZOFFSETTO:-0500
TZNAME:CDT
DTSTART:20250309T080000
END:DAYLIGHT
BEGIN:STANDARD
TZOFFSETFROM:-0500
TZOFFSETTO:-0600
TZNAME:CST
DTSTART:20251102T070000
END:STANDARD
BEGIN:DAYLIGHT
TZOFFSETFROM:-0600
TZOFFSETTO:-0500
TZNAME:CDT
DTSTART:20260308T080000
END:DAYLIGHT
BEGIN:STANDARD
TZOFFSETFROM:-0500
TZOFFSETTO:-0600
TZNAME:CST
DTSTART:20261101T070000
END:STANDARD
BEGIN:DAYLIGHT
TZOFFSETFROM:-0600
TZOFFSETTO:-0500
TZNAME:CDT
DTSTART:20270314T080000
END:DAYLIGHT
BEGIN:STANDARD
TZOFFSETFROM:-0500
TZOFFSETTO:-0600
TZNAME:CST
DTSTART:20271107T070000
END:STANDARD
END:VTIMEZONE
BEGIN:VEVENT
DTSTART;TZID=America/Chicago:20260525T180000
DTEND;TZID=America/Chicago:20260525T193000
DTSTAMP:20260425T051727
CREATED:20260421T133239Z
LAST-MODIFIED:20260421T133239Z
UID:116389-1779732000-1779737400@foxcitiesmagazine.com
SUMMARY:KURT ROSENWINKEL in Concert
DESCRIPTION:Legendary guitarist Kurt Rosenwinkel swings through Wisconsin! With Alexander Claffy on bass and Jimmy Macbride on drums. \nInfo & Tickets at JazzCoterie.com \nKurt Rosenwinkel is a highly acclaimed and influential artist\, composer\, and bandleader. Hailed as one of the most important musicians of his generation\, Rosenwinkel has spent decades pushing the boundaries of the jazz genre and developing a signature sound that has captivated audiences worldwide. “Kurt Rosenwinkel can say more in a few lines [of music] than most guitarists manage over the course of an entire career\,” says The New York Times. With a career spanning over 30 years\, Kurt has released a series of groundbreaking albums\, collaborated with jazz legends\, and continues to inspire the next generation of jazz musicians. His innovative approach to composition and improvisation has made him a household name among jazz enthusiasts. \n$35 General Admission | $55 Premium Seating | 50% Working Musicians | FREE Music Students | Info & Tickets at JazzCoterie.com
URL:https://foxcitiesmagazine.com/calendar/kurt-rosenwinkel-in-concert/
LOCATION:Gibson Music Hall\, 211 W College Avenue\, Appleton\, 54911
CATEGORIES:Community Events,Featured Events
ATTACH;FMTTYPE=image/jpeg:https://foxcitiesmagazine.com/wp-content/uploads/2026/04/Kurt-Rosenwinkel_6x4.jpg
ORGANIZER;CN="Jazz Coterie":MAILTO:Kyle@JazzCoterie.com
END:VEVENT
END:VCALENDAR