BEGIN:VCALENDAR
VERSION:2.0
PRODID:-//Fox Cities Magazine - ECPv6.15.16//NONSGML v1.0//EN
CALSCALE:GREGORIAN
METHOD:PUBLISH
X-WR-CALNAME:Fox Cities Magazine
X-ORIGINAL-URL:https://foxcitiesmagazine.com
X-WR-CALDESC:Events for Fox Cities Magazine
REFRESH-INTERVAL;VALUE=DURATION:PT1H
X-Robots-Tag:noindex
X-PUBLISHED-TTL:PT1H
BEGIN:VTIMEZONE
TZID:America/Chicago
BEGIN:DAYLIGHT
TZOFFSETFROM:-0600
TZOFFSETTO:-0500
TZNAME:CDT
DTSTART:20250309T080000
END:DAYLIGHT
BEGIN:STANDARD
TZOFFSETFROM:-0500
TZOFFSETTO:-0600
TZNAME:CST
DTSTART:20251102T070000
END:STANDARD
BEGIN:DAYLIGHT
TZOFFSETFROM:-0600
TZOFFSETTO:-0500
TZNAME:CDT
DTSTART:20260308T080000
END:DAYLIGHT
BEGIN:STANDARD
TZOFFSETFROM:-0500
TZOFFSETTO:-0600
TZNAME:CST
DTSTART:20261101T070000
END:STANDARD
BEGIN:DAYLIGHT
TZOFFSETFROM:-0600
TZOFFSETTO:-0500
TZNAME:CDT
DTSTART:20270314T080000
END:DAYLIGHT
BEGIN:STANDARD
TZOFFSETFROM:-0500
TZOFFSETTO:-0600
TZNAME:CST
DTSTART:20271107T070000
END:STANDARD
END:VTIMEZONE
BEGIN:VEVENT
DTSTART;TZID=America/Chicago:20260429T180000
DTEND;TZID=America/Chicago:20260429T190000
DTSTAMP:20260421T135834
CREATED:20260205T195442Z
LAST-MODIFIED:20260205T195442Z
UID:115547-1777485600-1777489200@foxcitiesmagazine.com
SUMMARY:History & Hauntings: Inside Paranormal Investigations
DESCRIPTION:Join investigator Ashley Mittag from Fox Valley Paranormal as she shares real experiences from local haunted sites\, including the Berlin Church\, Sheboygan Asylum\, and the Glenbeulah School. \nThis program will explore the fascinating intersection of history and the unexplained\, highlighting how investigators research haunted locations\, use specialized tools\, and document potential evidence. Ashley will also discuss the importance of preserving historical spaces and the stories they hold\, while answering your questions about what it’s really like to be on an investigation. \nWhether you’re a history buff\, a curious skeptic\, or simply love a good ghost story\, this presentation offers a unique chance to learn more about the paranormal right here in Wisconsin.
URL:https://foxcitiesmagazine.com/calendar/history-hauntings-inside-paranormal-investigations/
LOCATION:Mary Beth Nienhaus Community Room\, Appleton Public Library\, 200 N Appleton St\, Appleton\, WI\, 54915\, United States
CATEGORIES:Community Events,Featured Events
ATTACH;FMTTYPE=image/png:https://foxcitiesmagazine.com/wp-content/uploads/2026/02/History-Hauntings.png
ORGANIZER;CN="Appleton Public Library":MAILTO:refquest@apl.org
END:VEVENT
END:VCALENDAR