BEGIN:VCALENDAR
VERSION:2.0
PRODID:-//Fox Cities Magazine - ECPv6.15.16//NONSGML v1.0//EN
CALSCALE:GREGORIAN
METHOD:PUBLISH
X-WR-CALNAME:Fox Cities Magazine
X-ORIGINAL-URL:https://foxcitiesmagazine.com
X-WR-CALDESC:Events for Fox Cities Magazine
REFRESH-INTERVAL;VALUE=DURATION:PT1H
X-Robots-Tag:noindex
X-PUBLISHED-TTL:PT1H
BEGIN:VTIMEZONE
TZID:America/Chicago
BEGIN:DAYLIGHT
TZOFFSETFROM:-0600
TZOFFSETTO:-0500
TZNAME:CDT
DTSTART:20250309T080000
END:DAYLIGHT
BEGIN:STANDARD
TZOFFSETFROM:-0500
TZOFFSETTO:-0600
TZNAME:CST
DTSTART:20251102T070000
END:STANDARD
BEGIN:DAYLIGHT
TZOFFSETFROM:-0600
TZOFFSETTO:-0500
TZNAME:CDT
DTSTART:20260308T080000
END:DAYLIGHT
BEGIN:STANDARD
TZOFFSETFROM:-0500
TZOFFSETTO:-0600
TZNAME:CST
DTSTART:20261101T070000
END:STANDARD
BEGIN:DAYLIGHT
TZOFFSETFROM:-0600
TZOFFSETTO:-0500
TZNAME:CDT
DTSTART:20270314T080000
END:DAYLIGHT
BEGIN:STANDARD
TZOFFSETFROM:-0500
TZOFFSETTO:-0600
TZNAME:CST
DTSTART:20271107T070000
END:STANDARD
END:VTIMEZONE
BEGIN:VEVENT
DTSTART;TZID=America/Chicago:20260612T140000
DTEND;TZID=America/Chicago:20260612T150000
DTSTAMP:20260421T112409
CREATED:20260304T152557Z
LAST-MODIFIED:20260304T152557Z
UID:115818-1781272800-1781276400@foxcitiesmagazine.com
SUMMARY:Hardy Gallery: Juror Talk with Rebecca Carlton
DESCRIPTION:Visit the Hardy Gallery and listen to Rebecca Carlton give a Juror Talk. Rebecca Carlton is the juror for our 64th Annual Wall-To-Wall Juried Exhibit\, and is a Door County local artist and owner of Juddville Contemporary Clay Studio Gallery. Stop by the scenic Hardy Gallery located in Ephraim on June 12\, 2026\, at 2–3 PM.
URL:https://foxcitiesmagazine.com/calendar/hardy-gallery-juror-talk-with-rebecca-carlton/
LOCATION:The Hardy Gallery\, 3083 Anderson Dock\, Ephraim\, 54211
CATEGORIES:Community Events,Featured Events
ATTACH;FMTTYPE=image/png:https://foxcitiesmagazine.com/wp-content/uploads/2026/03/2026_JurorTalk_Insta1.png
ORGANIZER;CN="The Hardy Gallery":MAILTO:info@thehardy.org
END:VEVENT
END:VCALENDAR