BEGIN:VCALENDAR
VERSION:2.0
PRODID:-//Fox Cities Magazine - ECPv6.15.16//NONSGML v1.0//EN
CALSCALE:GREGORIAN
METHOD:PUBLISH
X-ORIGINAL-URL:https://foxcitiesmagazine.com
X-WR-CALDESC:Events for Fox Cities Magazine
REFRESH-INTERVAL;VALUE=DURATION:PT1H
X-Robots-Tag:noindex
X-PUBLISHED-TTL:PT1H
BEGIN:VTIMEZONE
TZID:America/Chicago
BEGIN:DAYLIGHT
TZOFFSETFROM:-0600
TZOFFSETTO:-0500
TZNAME:CDT
DTSTART:20250309T080000
END:DAYLIGHT
BEGIN:STANDARD
TZOFFSETFROM:-0500
TZOFFSETTO:-0600
TZNAME:CST
DTSTART:20251102T070000
END:STANDARD
BEGIN:DAYLIGHT
TZOFFSETFROM:-0600
TZOFFSETTO:-0500
TZNAME:CDT
DTSTART:20260308T080000
END:DAYLIGHT
BEGIN:STANDARD
TZOFFSETFROM:-0500
TZOFFSETTO:-0600
TZNAME:CST
DTSTART:20261101T070000
END:STANDARD
BEGIN:DAYLIGHT
TZOFFSETFROM:-0600
TZOFFSETTO:-0500
TZNAME:CDT
DTSTART:20270314T080000
END:DAYLIGHT
BEGIN:STANDARD
TZOFFSETFROM:-0500
TZOFFSETTO:-0600
TZNAME:CST
DTSTART:20271107T070000
END:STANDARD
END:VTIMEZONE
BEGIN:VEVENT
DTSTART;TZID=America/Chicago:20260305T090000
DTEND;TZID=America/Chicago:20260530T160000
DTSTAMP:20260425T105331
CREATED:20260305T215514Z
LAST-MODIFIED:20260305T215514Z
UID:10001516-1772701200-1780156800@foxcitiesmagazine.com
SUMMARY:Free Admission for Teachers
DESCRIPTION:As a special thank you to teachers\, Farm Wisconsin will be offering FREE admission throughout the entire spring season (March through May)! Visit us Thursday – Saturday and during special spring break hours from 9 am – 4 pm. Drive a combine simulator\, shape watersheds in our sand table\, follow the journey of a cranberry\, meet a dairy cow up close\, and so much more! \nDon’t forget to stop by our Wisconsin Cafe for a delicious farm-to-table meal (open from 8 am – 2:30 pm) and enjoy a sweet treat of Cedar Crest ice cream for dessert.
URL:https://foxcitiesmagazine.com/calendar/free-admission-for-teachers/
LOCATION:Farm Wisconsin Discovery Center\, 7001 Gass Lake Rd\, Manitowoc\, 54220\, United States
CATEGORIES:Community Events,Featured Events
ATTACH;FMTTYPE=image/jpeg:https://foxcitiesmagazine.com/wp-content/uploads/2026/03/IMG_2904-scaled.jpeg
END:VEVENT
BEGIN:VEVENT
DTSTART;TZID=America/Chicago:20260525T180000
DTEND;TZID=America/Chicago:20260525T193000
DTSTAMP:20260425T105331
CREATED:20260421T133239Z
LAST-MODIFIED:20260421T133239Z
UID:10002058-1779732000-1779737400@foxcitiesmagazine.com
SUMMARY:KURT ROSENWINKEL in Concert
DESCRIPTION:Legendary guitarist Kurt Rosenwinkel swings through Wisconsin! With Alexander Claffy on bass and Jimmy Macbride on drums. \nInfo & Tickets at JazzCoterie.com \nKurt Rosenwinkel is a highly acclaimed and influential artist\, composer\, and bandleader. Hailed as one of the most important musicians of his generation\, Rosenwinkel has spent decades pushing the boundaries of the jazz genre and developing a signature sound that has captivated audiences worldwide. “Kurt Rosenwinkel can say more in a few lines [of music] than most guitarists manage over the course of an entire career\,” says The New York Times. With a career spanning over 30 years\, Kurt has released a series of groundbreaking albums\, collaborated with jazz legends\, and continues to inspire the next generation of jazz musicians. His innovative approach to composition and improvisation has made him a household name among jazz enthusiasts. \n$35 General Admission | $55 Premium Seating | 50% Working Musicians | FREE Music Students | Info & Tickets at JazzCoterie.com
URL:https://foxcitiesmagazine.com/calendar/kurt-rosenwinkel-in-concert/
LOCATION:Gibson Music Hall\, 211 W College Avenue\, Appleton\, 54911
CATEGORIES:Community Events,Featured Events
ATTACH;FMTTYPE=image/jpeg:https://foxcitiesmagazine.com/wp-content/uploads/2026/04/Kurt-Rosenwinkel_6x4.jpg
ORGANIZER;CN="Jazz Coterie":MAILTO:Kyle@JazzCoterie.com
END:VEVENT
BEGIN:VEVENT
DTSTART;TZID=America/Chicago:20260525T180000
DTEND;TZID=America/Chicago:20260525T200000
DTSTAMP:20260425T105331
CREATED:20251007T144741Z
LAST-MODIFIED:20251007T144741Z
UID:10000858-1779732000-1779739200@foxcitiesmagazine.com
SUMMARY:Introductory Bridge Workshop
DESCRIPTION:Introductory Bridge Workshop for Card Enthusiasts \nWayne Peters will lead a six-week workshop tailored for beginners eager to learn Bridge\, particularly aimed at those who already have experience with card games. Participants are asked to commit to all six sessions. Please note that registration is limited to 12 participants. \nThe class will meet from 6:00 – 8:00 p.m. on Monday\, October 27\, November 3\, November 10\, November 24\, December 1\, and December 8. To register\, visit https://neenahlibrary.org/calendar#/events/ \nFor more information\, contact Nicole Hardina-Wilhelm at director@neenahlibrary.org or by phone at 920-886-6300.\n###
URL:https://foxcitiesmagazine.com/calendar/introductory-bridge-workshop/2026-05-25/
LOCATION:Neenah Library\, 240 E Wisconsin Ave\, Neenah\, 54956
CATEGORIES:Community Events,Featured Events
END:VEVENT
BEGIN:VEVENT
DTSTART;TZID=America/Chicago:20260525T183000
DTEND;TZID=America/Chicago:20260525T203000
DTSTAMP:20260425T105331
CREATED:20260310T143037Z
LAST-MODIFIED:20260310T143037Z
UID:10001806-1779733800-1779741000@foxcitiesmagazine.com
SUMMARY:Traditional Irish Session
DESCRIPTION:Every Fourth Monday | McFleshman’s Brewing Company | Appleton\, WI \nJoin us for a traditional Irish music session at McFleshman’s. Musicians and listeners alike are welcome for an evening of lively tunes\, great beer\, and good company. \nThis is an open session for players who enjoy traditional Irish music. Prior playing experience is highly encouraged\, as tunes move along in the traditional session style. Some musicians play by ear\, others read the notes — either approach is welcome.  \nNo rehearsals\, no formal set list — just a group of musicians sharing tunes in the moment. \nNot a musician? Come grab a pint and enjoy the music. Sessions are one of the great traditions of Irish culture\, where the music\, the room\, and the community all come together.
URL:https://foxcitiesmagazine.com/calendar/traditional-irish-session/2026-05-25/
LOCATION:McFleshman’s Brewing Co.\, 115 S. State Street\, Appleton\, WI\, 54911\, United States
CATEGORIES:Community Events,Featured Events
ATTACH;FMTTYPE=image/png:https://foxcitiesmagazine.com/wp-content/uploads/2026/03/Your-paragraph-text-600-x-400-px.png
ORGANIZER;CN="McFleshman%3Bs":MAILTO:emy@mcfleshmans.com
END:VEVENT
BEGIN:VEVENT
DTSTART;TZID=America/Chicago:20260527T190000
DTEND;TZID=America/Chicago:20260527T210000
DTSTAMP:20260425T105331
CREATED:20251118T143830Z
LAST-MODIFIED:20260306T161551Z
UID:10001004-1779908400-1779915600@foxcitiesmagazine.com
SUMMARY:Open Mic Night
DESCRIPTION:Every Wednesday | 7–9 PM | McFleshman’s Taproom \nSign-ups start at 6:30 PM \nLooking for a midweek creative outlet? Open Mic at McFleshman’s welcomes musicians\, poets\, comedians\, storytellers\, and first-timers alike.\nBring something new or share something polished — this is a supportive space to perform\, listen\, and connect with the community. \nHosted in rotation by Sarah Lynn Huss and Gilliana Hope. \nAll talent levels are welcome.
URL:https://foxcitiesmagazine.com/calendar/open-mic-night-with-sarah-lynn-huss/2026-05-27/
LOCATION:McFleshman’s Brewing Co.\, 115 S. State Street\, Appleton\, WI\, 54911\, United States
CATEGORIES:Community Events,Featured Events
ATTACH;FMTTYPE=image/png:https://foxcitiesmagazine.com/wp-content/uploads/2025/11/Spring-Open-mic-600x400-1.png
ORGANIZER;CN="McFleshman%3Bs":MAILTO:emy@mcfleshmans.com
END:VEVENT
BEGIN:VEVENT
DTSTART;TZID=America/Chicago:20260528T163000
DTEND;TZID=America/Chicago:20260528T210000
DTSTAMP:20260425T105331
CREATED:20260424T002801Z
LAST-MODIFIED:20260424T002801Z
UID:10002129-1779985800-1780002000@foxcitiesmagazine.com
SUMMARY:Casa Hispana Scholarship Gala - Roots in Bloom
DESCRIPTION:Welcome to the Casa Hispana Scholarship Gala – Roots in Bloom \nJoin us at Poplar Hall for an unforgettable evening celebrating community\, opportunity\, and the power of education. This special event will feature a seated dinner\, exciting raffles\, a silent auction\, inspiring speakers\, and a night of dancing. \nGuests will enjoy exceptional cuisine\, live entertainment\, and meaningful moments that highlight the impact of Casa Hispana’s scholarship program and the students whose futures you help shape. \nYour presence and support play a vital role in creating opportunities for Hispanic students across our community. \nAttire: Black Tie / Business Formal\nTicket Price: $100/individual; $750 for a table of eight \nTogether\, we can invest in the next generation and make a lasting difference. \nWe look forward to celebrating with you!
URL:https://foxcitiesmagazine.com/calendar/casa-hispana-scholarship-gala-roots-in-bloom/
LOCATION:Poplar Hall\, 141 Riverheath Way\, Appleton\, WI\, 54915\, United States
CATEGORIES:Community Events,Featured Events
ORGANIZER;CN="Casa Hispana":MAILTO:info@casahispanawi.org
END:VEVENT
BEGIN:VEVENT
DTSTART;TZID=America/Chicago:20260528T183000
DTEND;TZID=America/Chicago:20260528T210000
DTSTAMP:20260425T105331
CREATED:20260307T165444Z
LAST-MODIFIED:20260307T165444Z
UID:10001528-1779993000-1780002000@foxcitiesmagazine.com
SUMMARY:Cool Table Trivia at McFleshman's
DESCRIPTION:Get ready to experience the Fox Valley’s newest & best trivia game. Join us at McFleshman’s Brewing Company for a fun and modestly challenging night of questions and prizes! \nOur trivia game isn’t the “high-octane\, in-your-face\, shouting-out-answers” show that other companies have. Nor are we a “graded-by-the-competition” game. \nCoolTable Trivia is a relaxed\, seated-with-your-friends\, type-in-answers trivia game for folks who would like to play trivia\, but also socialize with their friends\, and nothing too crazy because we all have to get up in the morning. \nMore information at www.cooltabletrivia.com
URL:https://foxcitiesmagazine.com/calendar/cool-table-trivia-at-mcfleshmans/2026-05-28/
LOCATION:McFleshman’s Brewing Co.\, 115 S. State Street\, Appleton\, WI\, 54911\, United States
CATEGORIES:Community Events,Featured Events
ATTACH;FMTTYPE=image/jpeg:https://foxcitiesmagazine.com/wp-content/uploads/2026/03/616808256_122164920878771997_7503194301502683192_n.jpg
ORGANIZER;CN="McFleshman%3Bs":MAILTO:emy@mcfleshmans.com
END:VEVENT
BEGIN:VEVENT
DTSTART;TZID=America/Chicago:20260530T110000
DTEND;TZID=America/Chicago:20260530T140000
DTSTAMP:20260425T105331
CREATED:20260421T133239Z
LAST-MODIFIED:20260421T133239Z
UID:10002059-1780138800-1780149600@foxcitiesmagazine.com
SUMMARY:BLOCK OF BOOKS - 2nd Annual Local Author Fair
DESCRIPTION:Last year’s Block of Books went so well that for 2026 we are going even bigger! Come meet (& support) over 90 Wisconsin authors and other book related vendors. We are will also have story time for the kiddos & poetry readings this year.
URL:https://foxcitiesmagazine.com/calendar/block-of-books-2nd-annual-local-author-fair/
LOCATION:The Book Store\, 801 W College Ave\, Appleton\, WI\, 54914\, United States
CATEGORIES:Community Events,Featured Events
ATTACH;FMTTYPE=image/png:https://foxcitiesmagazine.com/wp-content/uploads/2026/04/Block-of-Books-FB-Ad-3.png
END:VEVENT
BEGIN:VEVENT
DTSTART;TZID=America/Chicago:20260531T140000
DTEND;TZID=America/Chicago:20260531T140000
DTSTAMP:20260425T105331
CREATED:20260401T190848Z
LAST-MODIFIED:20260401T190848Z
UID:10001898-1780236000-1780236000@foxcitiesmagazine.com
SUMMARY:Lawrence University Jazz Quartet: Spring Session
DESCRIPTION:Lawrence University Jazz Quartet: Spring Sessions \nThe Lawrence University Student Jazz Quartet is back at the Neenah Public Library for a series of spring concerts taking place Sundays on April 12th\, April 19th\, April 26th and May 3rd. These one-hour long concerts begin at 2:00 pm and feature classic jazz selections from Miles Davis\, Herbie Hancock\, Thelonious Monk\, and more. \nThis year the following students were selected to play at NPL: \nCharlie White\, trombone\nRowan McJimsey\, piano\nCooper Luedtke\, bass\nTyler Donnelly\, drums \nIf accommodations are needed to attend\, please contact the library at least 24 hours in advance of the program. For more information\, please contact the reference desk by phone: 920-886-6315\, e-mail: Library@neenahlibrary.org or visit our website\, www.neenahlibrary.org.\nThe Friends of the Neenah Public Library and the Neenah Public Library Trust Fund present the Concert Series. Donations are always accepted and appreciated.
URL:https://foxcitiesmagazine.com/calendar/lawrence-university-jazz-quartet-spring-session/2026-05-31/
LOCATION:Neenah Library\, 240 E Wisconsin Ave\, Neenah\, 54956
CATEGORIES:Community Events,Featured Events
END:VEVENT
END:VCALENDAR