BEGIN:VCALENDAR
VERSION:2.0
PRODID:-//Fox Cities Magazine - ECPv6.15.16//NONSGML v1.0//EN
CALSCALE:GREGORIAN
METHOD:PUBLISH
X-WR-CALNAME:Fox Cities Magazine
X-ORIGINAL-URL:https://foxcitiesmagazine.com
X-WR-CALDESC:Events for Fox Cities Magazine
REFRESH-INTERVAL;VALUE=DURATION:PT1H
X-Robots-Tag:noindex
X-PUBLISHED-TTL:PT1H
BEGIN:VTIMEZONE
TZID:America/Chicago
BEGIN:DAYLIGHT
TZOFFSETFROM:-0600
TZOFFSETTO:-0500
TZNAME:CDT
DTSTART:20250309T080000
END:DAYLIGHT
BEGIN:STANDARD
TZOFFSETFROM:-0500
TZOFFSETTO:-0600
TZNAME:CST
DTSTART:20251102T070000
END:STANDARD
BEGIN:DAYLIGHT
TZOFFSETFROM:-0600
TZOFFSETTO:-0500
TZNAME:CDT
DTSTART:20260308T080000
END:DAYLIGHT
BEGIN:STANDARD
TZOFFSETFROM:-0500
TZOFFSETTO:-0600
TZNAME:CST
DTSTART:20261101T070000
END:STANDARD
BEGIN:DAYLIGHT
TZOFFSETFROM:-0600
TZOFFSETTO:-0500
TZNAME:CDT
DTSTART:20270314T080000
END:DAYLIGHT
BEGIN:STANDARD
TZOFFSETFROM:-0500
TZOFFSETTO:-0600
TZNAME:CST
DTSTART:20271107T070000
END:STANDARD
END:VTIMEZONE
BEGIN:VEVENT
DTSTART;TZID=America/Chicago:20260305T090000
DTEND;TZID=America/Chicago:20260530T160000
DTSTAMP:20260423T082802
CREATED:20260305T215514Z
LAST-MODIFIED:20260305T215514Z
UID:10001516-1772701200-1780156800@foxcitiesmagazine.com
SUMMARY:Free Admission for Teachers
DESCRIPTION:As a special thank you to teachers\, Farm Wisconsin will be offering FREE admission throughout the entire spring season (March through May)! Visit us Thursday – Saturday and during special spring break hours from 9 am – 4 pm. Drive a combine simulator\, shape watersheds in our sand table\, follow the journey of a cranberry\, meet a dairy cow up close\, and so much more! \nDon’t forget to stop by our Wisconsin Cafe for a delicious farm-to-table meal (open from 8 am – 2:30 pm) and enjoy a sweet treat of Cedar Crest ice cream for dessert.
URL:https://foxcitiesmagazine.com/calendar/free-admission-for-teachers/
LOCATION:Farm Wisconsin Discovery Center\, 7001 Gass Lake Rd\, Manitowoc\, 54220\, United States
CATEGORIES:Community Events,Featured Events
ATTACH;FMTTYPE=image/jpeg:https://foxcitiesmagazine.com/wp-content/uploads/2026/03/IMG_2904-scaled.jpeg
END:VEVENT
BEGIN:VEVENT
DTSTART;TZID=America/Chicago:20260517T140000
DTEND;TZID=America/Chicago:20260517T140000
DTSTAMP:20260423T082802
CREATED:20260401T190848Z
LAST-MODIFIED:20260401T190848Z
UID:10001896-1779026400-1779026400@foxcitiesmagazine.com
SUMMARY:Lawrence University Jazz Quartet: Spring Session
DESCRIPTION:Lawrence University Jazz Quartet: Spring Sessions \nThe Lawrence University Student Jazz Quartet is back at the Neenah Public Library for a series of spring concerts taking place Sundays on April 12th\, April 19th\, April 26th and May 3rd. These one-hour long concerts begin at 2:00 pm and feature classic jazz selections from Miles Davis\, Herbie Hancock\, Thelonious Monk\, and more. \nThis year the following students were selected to play at NPL: \nCharlie White\, trombone\nRowan McJimsey\, piano\nCooper Luedtke\, bass\nTyler Donnelly\, drums \nIf accommodations are needed to attend\, please contact the library at least 24 hours in advance of the program. For more information\, please contact the reference desk by phone: 920-886-6315\, e-mail: Library@neenahlibrary.org or visit our website\, www.neenahlibrary.org.\nThe Friends of the Neenah Public Library and the Neenah Public Library Trust Fund present the Concert Series. Donations are always accepted and appreciated.
URL:https://foxcitiesmagazine.com/calendar/lawrence-university-jazz-quartet-spring-session/2026-05-17/
LOCATION:Neenah Library\, 240 E Wisconsin Ave\, Neenah\, 54956
CATEGORIES:Community Events,Featured Events
END:VEVENT
BEGIN:VEVENT
DTSTART;TZID=America/Chicago:20260517T140000
DTEND;TZID=America/Chicago:20260517T163000
DTSTAMP:20260423T082803
CREATED:20250916T185519Z
LAST-MODIFIED:20251125T234332Z
UID:10000785-1779026400-1779035400@foxcitiesmagazine.com
SUMMARY:Harmonies for Hope
DESCRIPTION:An uplifting program of resilience\, remembrance\, and inspiration. Featuring stirring works like Fanfare for the Common Man\, selections from Shostakovich’s mighty Fifth Symphony\, and the moving Song of Hope. Trumpet soloists Dan Marbes\, Adam Gaines\, and Kevin Short\, along with student brass ensembles\, join the Civic Symphony of Green Bay to celebrate the power of music to unite and heal. Concertmaster Taylor Giorgio will be featured on Schindler’s List.
URL:https://foxcitiesmagazine.com/calendar/harmonies-for-hope/
LOCATION:The Weidner\, 2420 Nicolet Dr\, 54311
CATEGORIES:Community Events,Featured Events
ATTACH;FMTTYPE=image/jpeg:https://foxcitiesmagazine.com/wp-content/uploads/2025/09/04_May-17_25-26-Weidner-Graphics_1920-x-1080.jpg
ORGANIZER;CN="Civic Symphony of Green Bay":MAILTO:info@gbcivic.org
END:VEVENT
END:VCALENDAR