BEGIN:VCALENDAR
VERSION:2.0
PRODID:-//Fox Cities Magazine - ECPv6.15.16//NONSGML v1.0//EN
CALSCALE:GREGORIAN
METHOD:PUBLISH
X-WR-CALNAME:Fox Cities Magazine
X-ORIGINAL-URL:https://foxcitiesmagazine.com
X-WR-CALDESC:Events for Fox Cities Magazine
REFRESH-INTERVAL;VALUE=DURATION:PT1H
X-Robots-Tag:noindex
X-PUBLISHED-TTL:PT1H
BEGIN:VTIMEZONE
TZID:America/Chicago
BEGIN:DAYLIGHT
TZOFFSETFROM:-0600
TZOFFSETTO:-0500
TZNAME:CDT
DTSTART:20250309T080000
END:DAYLIGHT
BEGIN:STANDARD
TZOFFSETFROM:-0500
TZOFFSETTO:-0600
TZNAME:CST
DTSTART:20251102T070000
END:STANDARD
BEGIN:DAYLIGHT
TZOFFSETFROM:-0600
TZOFFSETTO:-0500
TZNAME:CDT
DTSTART:20260308T080000
END:DAYLIGHT
BEGIN:STANDARD
TZOFFSETFROM:-0500
TZOFFSETTO:-0600
TZNAME:CST
DTSTART:20261101T070000
END:STANDARD
BEGIN:DAYLIGHT
TZOFFSETFROM:-0600
TZOFFSETTO:-0500
TZNAME:CDT
DTSTART:20270314T080000
END:DAYLIGHT
BEGIN:STANDARD
TZOFFSETFROM:-0500
TZOFFSETTO:-0600
TZNAME:CST
DTSTART:20271107T070000
END:STANDARD
END:VTIMEZONE
BEGIN:VEVENT
DTSTART;TZID=America/Chicago:20260710T120000
DTEND;TZID=America/Chicago:20260710T130000
DTSTAMP:20260421T141809
CREATED:20260307T165442Z
LAST-MODIFIED:20260307T165442Z
UID:10001793-1783684800-1783688400@foxcitiesmagazine.com
SUMMARY:Gaudete Brass Quintet - Ripon American Legion
DESCRIPTION:Gaudete Brass\, a dynamic quintet devoted to the expressive power of brass chamber music\, brings both joy and intensity to every performance. Their concerts combine technical brilliance\, warmth\, and a deep sense of musical storytelling. This free performance reflects the Green Lake Festival of Music’s ongoing commitment to education and community connection. \nArtistic & Executive Director Sam Handley observes\, “First got to know Scott Tegge\, the Tubist\, known for years. Talked about the importance of education being a major component of performances.” The quintet’s performances blend artistry with educational insight\, offering audiences not only music of great energy and beauty but also engagement with the musicians’ craft and teaching ethos. Named for the Latin word meaning “Joy\,” Gaudete Brass will deliver a free program that balances exuberance and poignancy\, expanding both the brass repertoire and audience appreciation for the expressive possibilities of brass chamber music. \nNo tickets required! Since 2016\, GLFM has offered concerts without direct charge\, instead relying on generous support from grants\, corporations\, sponsors\, individual donors\, and free-will donations at concerts.
URL:https://foxcitiesmagazine.com/calendar/gaudete-brass-quintet-ripon-american-legion/
LOCATION:Ripon American Legion\, 113 E Fond du Lac St.\, Ripon\, 54971
CATEGORIES:Community Events,Family Friendly,Featured Events
ATTACH;FMTTYPE=image/jpeg:https://foxcitiesmagazine.com/wp-content/uploads/2026/03/Gaudete-Brass-Quintet-1.jpg
ORGANIZER;CN="Green Lake Festival of Music":MAILTO:info@greenlakefestival.org
END:VEVENT
BEGIN:VEVENT
DTSTART;TZID=America/Chicago:20260710T150000
DTEND;TZID=America/Chicago:20260710T160000
DTSTAMP:20260421T141809
CREATED:20260307T165441Z
LAST-MODIFIED:20260307T165441Z
UID:10001794-1783695600-1783699200@foxcitiesmagazine.com
SUMMARY:Gaudete Brass Quintet – Evergreen Oshkosh
DESCRIPTION:Gaudete Brass\, a dynamic quintet devoted to the expressive power of brass chamber music\, brings both joy and intensity to every performance. Their concerts combine technical brilliance\, warmth\, and a deep sense of musical storytelling. This free performance reflects the Green Lake Festival of Music’s ongoing commitment to education and community connection. \nArtistic & Executive Director Sam Handley observes\, “First got to know Scott Tegge\, the Tubist\, known for years. Talked about the importance of education being a major component of performances.” The quintet’s performances blend artistry with educational insight\, offering audiences not only music of great energy and beauty but also engagement with the musicians’ craft and teaching ethos. Named for the Latin word meaning “Joy\,” Gaudete Brass will deliver a free program that balances exuberance and poignancy\, expanding both the brass repertoire and audience appreciation for the expressive possibilities of brass chamber music. \nNo tickets required! Since 2016\, GLFM has offered concerts without direct charge\, instead relying on generous support from grants\, corporations\, sponsors\, individual donors\, and free-will donations at concerts.
URL:https://foxcitiesmagazine.com/calendar/gaudete-brass-quintet-evergreen-oshkosh/
LOCATION:Evergreen Retirement Community\, 1130 N Westfield Street\, Oshkosh\, 54902
CATEGORIES:Community Events,Family Friendly,Featured Events
ATTACH;FMTTYPE=image/jpeg:https://foxcitiesmagazine.com/wp-content/uploads/2026/03/Gaudete-Brass-Quintet-2.jpg
ORGANIZER;CN="Green Lake Festival of Music":MAILTO:info@greenlakefestival.org
END:VEVENT
BEGIN:VEVENT
DTSTART;TZID=America/Chicago:20260801T070000
DTEND;TZID=America/Chicago:20260801T150000
DTSTAMP:20260421T141810
CREATED:20260421T133239Z
LAST-MODIFIED:20260421T133239Z
UID:10002060-1785567600-1785596400@foxcitiesmagazine.com
SUMMARY:Bike to the Beat
DESCRIPTION:Bike to the Beat isn’t just a bike ride -it’s a party on wheels!! Picture this: you\, your family\, and friends cruising through scenic routes with the soundtrack of live music filling the air\, and the smell of delicious food waiting at every stop. From cheesy\, delicious pizza and crispy wings to legendary Scotcheroos and cheese curds\, this ride is all about indulging while you pedal! \nWith routes ranging from a breezy 12 miles to a challenging 54 miles\, you set the pace. Stop as often as you like\, soak in the music\, grab a cold Bike to the Brew beer or refreshing beverage\, and make memories along the way. Whether you’re a seasoned cyclist or finally dusting off that bike from the garage\, this event is for YOU. \nAnd the best part? Every mile you ride supports the Fox Cares Foundation\, helping make a difference in our community. So\, come for the ride\, stay for the fun\, and leave knowing you’ve done something amazing. \nRide. Rock. Repeat.
URL:https://foxcitiesmagazine.com/calendar/bike-to-the-beat/
LOCATION:Christ The King Lutheran Church\, 601 S Washington Street\, Combined Locks\, 54113
CATEGORIES:Children's Events,Community Events,Family Friendly,Featured Events
ATTACH;FMTTYPE=image/png:https://foxcitiesmagazine.com/wp-content/uploads/2026/04/BTTBAUG1.png
ORGANIZER;CN="Fox Communities Credit Union":MAILTO:lfreitag@foxcu.org
END:VEVENT
END:VCALENDAR