BEGIN:VCALENDAR
VERSION:2.0
PRODID:-//Fox Cities Magazine - ECPv6.15.16//NONSGML v1.0//EN
CALSCALE:GREGORIAN
METHOD:PUBLISH
X-WR-CALNAME:Fox Cities Magazine
X-ORIGINAL-URL:https://foxcitiesmagazine.com
X-WR-CALDESC:Events for Fox Cities Magazine
REFRESH-INTERVAL;VALUE=DURATION:PT1H
X-Robots-Tag:noindex
X-PUBLISHED-TTL:PT1H
BEGIN:VTIMEZONE
TZID:America/Chicago
BEGIN:DAYLIGHT
TZOFFSETFROM:-0600
TZOFFSETTO:-0500
TZNAME:CDT
DTSTART:20250309T080000
END:DAYLIGHT
BEGIN:STANDARD
TZOFFSETFROM:-0500
TZOFFSETTO:-0600
TZNAME:CST
DTSTART:20251102T070000
END:STANDARD
BEGIN:DAYLIGHT
TZOFFSETFROM:-0600
TZOFFSETTO:-0500
TZNAME:CDT
DTSTART:20260308T080000
END:DAYLIGHT
BEGIN:STANDARD
TZOFFSETFROM:-0500
TZOFFSETTO:-0600
TZNAME:CST
DTSTART:20261101T070000
END:STANDARD
BEGIN:DAYLIGHT
TZOFFSETFROM:-0600
TZOFFSETTO:-0500
TZNAME:CDT
DTSTART:20270314T080000
END:DAYLIGHT
BEGIN:STANDARD
TZOFFSETFROM:-0500
TZOFFSETTO:-0600
TZNAME:CST
DTSTART:20271107T070000
END:STANDARD
END:VTIMEZONE
BEGIN:VEVENT
DTSTART;TZID=America/Chicago:20260624T100000
DTEND;TZID=America/Chicago:20260624T110000
DTSTAMP:20260421T124219
CREATED:20260307T165443Z
LAST-MODIFIED:20260307T165443Z
UID:10001788-1782295200-1782298800@foxcitiesmagazine.com
SUMMARY:Avanti Piano Trio - UCC Waupun
DESCRIPTION:Returning to the Green Lake Festival of Music after their 2025 Gala appearance\, the Madison-based Avanti Piano Trio continues a shared commitment to the piano-trio tradition at the heart of GLFM’s chamber music legacy. Pianist Alissa Freeman\, violinist Hillary Hempel\, and cellist Hannah Wolkstein bring “impressive energy and musicality” to a program that balances beloved repertoire with under-explored works\, including music by female composers. \nThis return reflects the festival’s 2026 theme of artistic connection. As departing Artistic & Executive Director Sam Handley notes\, “Returning after their 2025 Gala appearance\, the Madison-based trio shares GLFM’s long-standing focus on piano-trio repertoire.” Since forming in Madison in 2018\, the Avanti Piano Trio has performed throughout Wisconsin. \nTheir appearance affirms both continuity and discovery — a familiar ensemble deepening its relationship with GLFM while inviting audiences into the rich and evolving world of piano trio music. \nNo tickets required! Since 2016\, GLFM has offered concerts without direct charge\, instead relying on generous support from grants\, corporations\, sponsors\, individual donors\, and free-will donations at concerts.
URL:https://foxcitiesmagazine.com/calendar/avanti-piano-trio-ucc-waupun/
LOCATION:Union-Congregational Church of Waupun\, 125 Beaver Dam St\, Waupun\, 53963
CATEGORIES:Community Events,Featured Events
ATTACH;FMTTYPE=image/jpeg:https://foxcitiesmagazine.com/wp-content/uploads/2026/03/Avanti-Piano-Trio.jpg
ORGANIZER;CN="Green Lake Festival of Music":MAILTO:info@greenlakefestival.org
END:VEVENT
BEGIN:VEVENT
DTSTART;TZID=America/Chicago:20260624T130000
DTEND;TZID=America/Chicago:20260624T140000
DTSTAMP:20260421T124219
CREATED:20260307T165442Z
LAST-MODIFIED:20260307T165442Z
UID:10001789-1782306000-1782309600@foxcitiesmagazine.com
SUMMARY:Avanti Piano Trio - First Congregational Church of Ripon
DESCRIPTION:Returning to the Green Lake Festival of Music after their 2025 Gala appearance\, the Madison-based Avanti Piano Trio continues a shared commitment to the piano-trio tradition at the heart of GLFM’s chamber music legacy. Pianist Alissa Freeman\, violinist Hillary Hempel\, and cellist Hannah Wolkstein bring “impressive energy and musicality” to a program that balances beloved repertoire with under-explored works\, including music by female composers. \nThis return reflects the festival’s 2026 theme of artistic connection. As departing Artistic & Executive Director Sam Handley notes\, “Returning after their 2025 Gala appearance\, the Madison-based trio shares GLFM’s long-standing focus on piano-trio repertoire.” Since forming in Madison in 2018\, the Avanti Piano Trio has performed throughout Wisconsin. \nTheir appearance affirms both continuity and discovery — a familiar ensemble deepening its relationship with GLFM while inviting audiences into the rich and evolving world of piano trio music. \nNo tickets required! Since 2016\, GLFM has offered concerts without direct charge\, instead relying on generous support from grants\, corporations\, sponsors\, individual donors\, and free-will donations at concerts.
URL:https://foxcitiesmagazine.com/calendar/avanti-piano-trio-first-congregational-church-of-ripon/
LOCATION:First Congregational Church of Ripon\, 220 Ransom St.\, Ripon\, 54971
CATEGORIES:Community Events,Family Friendly,Featured Events
ATTACH;FMTTYPE=image/jpeg:https://foxcitiesmagazine.com/wp-content/uploads/2026/03/Avanti-Piano-Trio-1.jpg
ORGANIZER;CN="Green Lake Festival of Music":MAILTO:info@greenlakefestival.org
END:VEVENT
BEGIN:VEVENT
DTSTART;TZID=America/Chicago:20260624T150000
DTEND;TZID=America/Chicago:20260624T160000
DTSTAMP:20260421T124219
CREATED:20260307T165442Z
LAST-MODIFIED:20260307T165442Z
UID:10001790-1782313200-1782316800@foxcitiesmagazine.com
SUMMARY:Avanti Piano Trio - Evergreen Oshkosh
DESCRIPTION:Returning to the Green Lake Festival of Music after their 2025 Gala appearance\, the Madison-based Avanti Piano Trio continues a shared commitment to the piano-trio tradition at the heart of GLFM’s chamber music legacy. Pianist Alissa Freeman\, violinist Hillary Hempel\, and cellist Hannah Wolkstein bring “impressive energy and musicality” to a program that balances beloved repertoire with under-explored works\, including music by female composers. \nThis return reflects the festival’s 2026 theme of artistic connection. As departing Artistic & Executive Director Sam Handley notes\, “Returning after their 2025 Gala appearance\, the Madison-based trio shares GLFM’s long-standing focus on piano-trio repertoire.” Since forming in Madison in 2018\, the Avanti Piano Trio has performed throughout Wisconsin. \nTheir appearance affirms both continuity and discovery — a familiar ensemble deepening its relationship with GLFM while inviting audiences into the rich and evolving world of piano trio music. \nNo tickets required! Since 2016\, GLFM has offered concerts without direct charge\, instead relying on generous support from grants\, corporations\, sponsors\, individual donors\, and free-will donations at concerts.
URL:https://foxcitiesmagazine.com/calendar/avanti-piano-trio-evergreen-oshkosh/
LOCATION:Evergreen Retirement Community\, 1130 N Westfield Street\, Oshkosh\, 54902
CATEGORIES:Community Events,Family Friendly,Featured Events
ATTACH;FMTTYPE=image/jpeg:https://foxcitiesmagazine.com/wp-content/uploads/2026/03/Avanti-Piano-Trio-2.jpg
ORGANIZER;CN="Green Lake Festival of Music":MAILTO:info@greenlakefestival.org
END:VEVENT
BEGIN:VEVENT
DTSTART;TZID=America/Chicago:20260624T190000
DTEND;TZID=America/Chicago:20260624T210000
DTSTAMP:20260421T124219
CREATED:20251118T143830Z
LAST-MODIFIED:20260306T161551Z
UID:10001008-1782327600-1782334800@foxcitiesmagazine.com
SUMMARY:Open Mic Night
DESCRIPTION:Every Wednesday | 7–9 PM | McFleshman’s Taproom \nSign-ups start at 6:30 PM \nLooking for a midweek creative outlet? Open Mic at McFleshman’s welcomes musicians\, poets\, comedians\, storytellers\, and first-timers alike.\nBring something new or share something polished — this is a supportive space to perform\, listen\, and connect with the community. \nHosted in rotation by Sarah Lynn Huss and Gilliana Hope. \nAll talent levels are welcome.
URL:https://foxcitiesmagazine.com/calendar/open-mic-night-with-sarah-lynn-huss/2026-06-24/
LOCATION:McFleshman’s Brewing Co.\, 115 S. State Street\, Appleton\, WI\, 54911\, United States
CATEGORIES:Community Events,Featured Events
ATTACH;FMTTYPE=image/png:https://foxcitiesmagazine.com/wp-content/uploads/2025/11/Spring-Open-mic-600x400-1.png
ORGANIZER;CN="McFleshman%3Bs":MAILTO:emy@mcfleshmans.com
END:VEVENT
END:VCALENDAR