BEGIN:VCALENDAR
VERSION:2.0
PRODID:-//Fox Cities Magazine - ECPv6.15.16//NONSGML v1.0//EN
CALSCALE:GREGORIAN
METHOD:PUBLISH
X-ORIGINAL-URL:https://foxcitiesmagazine.com
X-WR-CALDESC:Events for Fox Cities Magazine
REFRESH-INTERVAL;VALUE=DURATION:PT1H
X-Robots-Tag:noindex
X-PUBLISHED-TTL:PT1H
BEGIN:VTIMEZONE
TZID:America/Chicago
BEGIN:DAYLIGHT
TZOFFSETFROM:-0600
TZOFFSETTO:-0500
TZNAME:CDT
DTSTART:20250309T080000
END:DAYLIGHT
BEGIN:STANDARD
TZOFFSETFROM:-0500
TZOFFSETTO:-0600
TZNAME:CST
DTSTART:20251102T070000
END:STANDARD
BEGIN:DAYLIGHT
TZOFFSETFROM:-0600
TZOFFSETTO:-0500
TZNAME:CDT
DTSTART:20260308T080000
END:DAYLIGHT
BEGIN:STANDARD
TZOFFSETFROM:-0500
TZOFFSETTO:-0600
TZNAME:CST
DTSTART:20261101T070000
END:STANDARD
BEGIN:DAYLIGHT
TZOFFSETFROM:-0600
TZOFFSETTO:-0500
TZNAME:CDT
DTSTART:20270314T080000
END:DAYLIGHT
BEGIN:STANDARD
TZOFFSETFROM:-0500
TZOFFSETTO:-0600
TZNAME:CST
DTSTART:20271107T070000
END:STANDARD
END:VTIMEZONE
BEGIN:VEVENT
DTSTART;TZID=America/Chicago:20260305T090000
DTEND;TZID=America/Chicago:20260530T160000
DTSTAMP:20260421T160730
CREATED:20260305T215514Z
LAST-MODIFIED:20260305T215514Z
UID:10001516-1772701200-1780156800@foxcitiesmagazine.com
SUMMARY:Free Admission for Teachers
DESCRIPTION:As a special thank you to teachers\, Farm Wisconsin will be offering FREE admission throughout the entire spring season (March through May)! Visit us Thursday – Saturday and during special spring break hours from 9 am – 4 pm. Drive a combine simulator\, shape watersheds in our sand table\, follow the journey of a cranberry\, meet a dairy cow up close\, and so much more! \nDon’t forget to stop by our Wisconsin Cafe for a delicious farm-to-table meal (open from 8 am – 2:30 pm) and enjoy a sweet treat of Cedar Crest ice cream for dessert.
URL:https://foxcitiesmagazine.com/calendar/free-admission-for-teachers/
LOCATION:Farm Wisconsin Discovery Center\, 7001 Gass Lake Rd\, Manitowoc\, 54220\, United States
CATEGORIES:Community Events,Featured Events
ATTACH;FMTTYPE=image/jpeg:https://foxcitiesmagazine.com/wp-content/uploads/2026/03/IMG_2904-scaled.jpeg
END:VEVENT
BEGIN:VEVENT
DTSTART;TZID=America/Chicago:20260507T090000
DTEND;TZID=America/Chicago:20260509T160000
DTSTAMP:20260421T160730
CREATED:20260417T134311Z
LAST-MODIFIED:20260417T134311Z
UID:10002054-1778144400-1778342400@foxcitiesmagazine.com
SUMMARY:Free Admission for Moms
DESCRIPTION:In honor of Mother’s Day\, we’re celebrating all moms with FREE admission to Farm Wisconsin! Treat mom to a special day exploring interactive exhibits\, meeting a dairy cow\, enjoying a delicious meal at the Wisconsin Café\, and so much more! \nVisit our website to receive your free admission!
URL:https://foxcitiesmagazine.com/calendar/free-admission-for-moms/
LOCATION:Farm Wisconsin Discovery Center\, 7001 Gass Lake Rd\, Manitowoc\, 54220\, United States
CATEGORIES:Community Events,Family Friendly,Featured Events
ATTACH;FMTTYPE=image/jpeg:https://foxcitiesmagazine.com/wp-content/uploads/2026/04/IMG_6637-scaled.jpeg
END:VEVENT
BEGIN:VEVENT
DTSTART;TZID=America/Chicago:20260507T183000
DTEND;TZID=America/Chicago:20260507T210000
DTSTAMP:20260421T160730
CREATED:20260307T165444Z
LAST-MODIFIED:20260307T165444Z
UID:10001525-1778178600-1778187600@foxcitiesmagazine.com
SUMMARY:Cool Table Trivia at McFleshman's
DESCRIPTION:Get ready to experience the Fox Valley’s newest & best trivia game. Join us at McFleshman’s Brewing Company for a fun and modestly challenging night of questions and prizes! \nOur trivia game isn’t the “high-octane\, in-your-face\, shouting-out-answers” show that other companies have. Nor are we a “graded-by-the-competition” game. \nCoolTable Trivia is a relaxed\, seated-with-your-friends\, type-in-answers trivia game for folks who would like to play trivia\, but also socialize with their friends\, and nothing too crazy because we all have to get up in the morning. \nMore information at www.cooltabletrivia.com
URL:https://foxcitiesmagazine.com/calendar/cool-table-trivia-at-mcfleshmans/2026-05-07/
LOCATION:McFleshman’s Brewing Co.\, 115 S. State Street\, Appleton\, WI\, 54911\, United States
CATEGORIES:Community Events,Featured Events
ATTACH;FMTTYPE=image/jpeg:https://foxcitiesmagazine.com/wp-content/uploads/2026/03/616808256_122164920878771997_7503194301502683192_n.jpg
ORGANIZER;CN="McFleshman%3Bs":MAILTO:emy@mcfleshmans.com
END:VEVENT
END:VCALENDAR